BEGIN:VCALENDAR
VERSION:2.0
PRODID:-//IP.Board Calendar 4.6.9//EN
METHOD:PUBLISH
CALSCALE:GREGORIAN
BEGIN:VTIMEZONE
TZID:Europe/London
TZURL:http://tzurl.org/zoneinfo/Europe/London
X-LIC-LOCATION:Europe/London
BEGIN:DAYLIGHT
TZOFFSETFROM:+0000
TZOFFSETTO:+0100
TZNAME:BST
DTSTART:20240331T020000Z
RRULE:FREQ=YEARLY;BYMONTH=3;BYDAY=-1SU
END:DAYLIGHT
BEGIN:STANDARD
TZOFFSETFROM:+0100
TZOFFSETTO:+0000
TZNAME:GMT
DTSTART:20241027T020000Z
RRULE:FREQ=YEARLY;BYMONTH=10;BYDAY=-1SU
END:STANDARD
END:VTIMEZONE
BEGIN:VTIMEZONE
TZID:Europe/London
TZURL:http://tzurl.org/zoneinfo/Europe/London
X-LIC-LOCATION:Europe/London
BEGIN:DAYLIGHT
TZOFFSETFROM:+0000
TZOFFSETTO:+0100
TZNAME:BST
DTSTART:20230326T020000Z
RRULE:FREQ=YEARLY;BYMONTH=3;BYDAY=-1SU
END:DAYLIGHT
BEGIN:STANDARD
TZOFFSETFROM:+0100
TZOFFSETTO:+0000
TZNAME:GMT
DTSTART:20231029T020000Z
RRULE:FREQ=YEARLY;BYMONTH=10;BYDAY=-1SU
END:STANDARD
END:VTIMEZONE
BEGIN:VTIMEZONE
TZID:Europe/London
TZURL:http://tzurl.org/zoneinfo/Europe/London
X-LIC-LOCATION:Europe/London
BEGIN:DAYLIGHT
TZOFFSETFROM:+0000
TZOFFSETTO:+0100
TZNAME:BST
DTSTART:20220327T020000Z
RRULE:FREQ=YEARLY;BYMONTH=3;BYDAY=-1SU
END:DAYLIGHT
BEGIN:STANDARD
TZOFFSETFROM:+0100
TZOFFSETTO:+0000
TZNAME:GMT
DTSTART:20221030T020000Z
RRULE:FREQ=YEARLY;BYMONTH=10;BYDAY=-1SU
END:STANDARD
END:VTIMEZONE
BEGIN:VEVENT
SUMMARY:Наближення Форуму Громадянсько
	го Суспільства 2025
DTSTAMP:20241029T092917Z
SEQUENCE:0
UID:21-1-7c00b94898c5e12348bf81e24d7fa749@zorax.org
ORGANIZER;CN="Едуард Чізмар":info@zorax.org
DESCRIPTION:\n	Обговоримо наближенн
	я форуму 2025 ОГС \n\n\n\n	Теми\, пропозиц
	ії\, програму \n\n
DTSTART;VALUE=DATE:20241113
END:VEVENT
BEGIN:VEVENT
SUMMARY:Стратегічна сесія 2024
DTSTAMP:20240409T110815Z
SEQUENCE:0
UID:16-1-7c00b94898c5e12348bf81e24d7fa749@zorax.org
ORGANIZER;CN="Едуард Чізмар":info@zorax.org
DESCRIPTION:\n	На цій зус
	трічі ми плануємо провести
	 стратегічну сесію 2024-20
	25 рік.\n\n\n\n	Виз
	начимось
	 з осново
	положними завда
	ннями Організації
	 та представимо план 
	подальших дій.\n\n\n\
	n	Запрошуємо в
	сіх\, хто хоче 
	зробити свій внесок у ство
	рення стратегії Організації на 2024 рік.\n\n
DTSTART:20240410T150000Z
END:VEVENT
BEGIN:VEVENT
SUMMARY:Стратегічна сесія 2024
DTSTAMP:20240812T110227Z
SEQUENCE:0
UID:17-1-7c00b94898c5e12348bf81e24d7fa749@zorax.org
ORGANIZER;CN="Едуард Чізмар":info@zorax.org
DESCRIPTION:\n	Реєструйтесь
	 на стратегічну 
	сесію 2024. Це
	й форум в
	ідкриє для
	 нас горизонти майбутнього 
	громадянського суспільства України.\n\n
DTSTART:20240813T130000Z
DTEND:20240813T140000Z
END:VEVENT
BEGIN:VEVENT
SUMMARY:Панельна дискусія з Европар
	ламентарем
DTSTAMP:20230902T103332Z
SEQUENCE:0
UID:15-1-7c00b94898c5e12348bf81e24d7fa749@zorax.org
ORGANIZER;CN="Едуард Чізмар":info@zorax.org
DESCRIPTION:\n	Створюємо нове обговорення важ
	ливих питань\n\n
DTSTART;VALUE=DATE:20230903
END:VEVENT
BEGIN:VEVENT
SUMMARY:Обгово
	рення публічних політик від ініц
	іативи «Луганська декларація»
DTSTAMP:20230117T110744Z
SEQUENCE:0
UID:13-1-7c00b94898c5e12348bf81e24d7fa749@zorax.org
ORGANIZER;CN="Едуард Чізмар":info@zorax.org
DESCRIPTION:\n	Чим впевн
	еніше ЗСУ н
	аближають 
	нашу перемо
	гу\, тим си
	льніше зр
	остає актуа
	льність тем
	атики віднов
	лення й відб
	удови України
	. Критерії\, че
	рвоні лінії 
	та пріорите
	тні завдан
	ня\, оприлюднені
	 в Лугано в Ма
	ніфесті громадя
	нського суспільс
	тва 2022 («Луганська д
	екларація»)\, мають ст
	ати ще актуальніши
	ми в 2023 році.\n\n
		Поки урядо
	ві структу
	ри доопрац
	ьовують пр
	оект плану
	 відновлен
	ня\, а між
	народні
	 партнер
	и доформ
	ульовують
	 бачення р
	есурсної п
	ідтримки п
	роцесу від
	новлення Ук
	раїни\, гро
	мадськіст
	ь має тако
	ж активно 
	долучатися
	 до процесу 
	вироблення пу
	блічної політики
	 на всіх етапах 
	її розробки та
	 реалізації.\n
	\n	З метою 
	впровадже
	ння інклюз
	ивного під
	ходу у ви
	робленні
	 публічних
	 політик\,
	 запрош
	уємо орга
	нізації г
	ромадянсь
	кого суспі
	льства до 
	спільного 
	обговоренн
	я\, надання 
	пропозиці
	й та доопра
	цювання по
	літик і п
	лану відно
	влення та м
	одернізаці
	ї України з
	а галузеви
	ми напрямка
	ми. На перш
	у хвилю обговоре
	нь виносяться наступ
	ні політики та плани відбудови:\n
	\n\n\n	1. Вища освіта. 23.01\n\n	2. Молоді
	жна політика. 24.01\n\n	3. Середня
	 освіта. 26.01\n\n	4. Гендерна політик
	а. 27.01\n\n	5. Містобудування. 30.
	01\n\n	6. Охорона природи та
	 довкілля 31.01\n\n\
	n	Обговорен
	ня відбуду
	ться на ос
	нові вже н
	аявних ан
	алітичних
	 та урядови
	х документі
	в про віднов
	лення та моде
	рнізацію Укра
	їни на шляху 
	до перемоги
	 та після ї
	ї здобутт
	я. За пі
	дсумками
	 готуютьс
	я пропозиц
	ії органі
	зацій гро
	мадянськог
	о суспільств
	а\, які перед
	аються на 
	опрацювання
	 мозковим це
	нтрам\, цен
	тральним 
	органам в
	иконавчої 
	влади\, в
	ідповідал
	ьним за пі
	дготовку 
	профільно
	го напрямк
	у плану ві
	дновлення.
	 Під час 
	обговоре
	ння будут
	ь презен
	товані ко
	роткі огл
	яди процес
	у відновл
	ення на пр
	едмет від
	повідності
	 вже ухвале
	них рішень 
	та оприлюд
	нених план
	ів критерія
	м\, дотрима
	ння червоних
	 ліній та пр
	іоритетних
	 завдань дл
	я розвитку
	 України\, 
	які заде
	кларова
	ні грома
	дськістю в
	 «Луганській декла
	рації» (Маніфест громадянського су
	спільства-2022 https://manifesto.or
	g.ua) на конференції з 
	відновлення Укра
	їни у Лугано (Швейцарі
	я).\n\n\n	Найближчі обгово
	рення відбудуться 23-31 с
	ічня 2023 року. Можлив
	і два формати уча
	сті:\n\n	особиста уча
	сть в м.Києві з до
	триманням заход
	ів безпеки\;\n\n	о
	нлайн формат
	\, підключенн
	я через інтер
	нет (участь в обговоренні та диску
	сії також забезпечується).\n\n
DTSTART;VALUE=DATE:20230123
DTEND;VALUE=DATE:20230201
END:VEVENT
BEGIN:VEVENT
SUMMARY:Solar panels integration summit
DTSTAMP:20221216T140444Z
SEQUENCE:0
UID:12-1-7c00b94898c5e12348bf81e24d7fa749@zorax.org
ORGANIZER;CN="Едуард Чізмар":info@zorax.org
DESCRIPTION:\n	Підбиття підсум
	ків за результатами роботи проект G45\n\n
DTSTART;VALUE=DATE:20221217
END:VEVENT
BEGIN:VEVENT
SUMMARY:Панельна дискусія з Евпропарл
	аментарем
DTSTAMP:20221126T152925Z
SEQUENCE:0
UID:10-1-7c00b94898c5e12348bf81e24d7fa749@zorax.org
ORGANIZER;CN="Фундація ZORAX":info@zorax.org
DESCRIPTION:\n	Цей захід дуж
	е важливий у на
	ших колах\, тому\, радимо всім по мож
	ливості відвідати його.\n\n
DTSTART:20221126T190000Z
END:VEVENT
END:VCALENDAR
